Workbook

Sheet 活動流程
C1: 競標活動流程
A2: 0.改變教室座位佈置
A3: 1. 先瀏覽全班的聯絡簿點數及班幣計算方式
A4: 2.討論沒帶競標物的同學點數如何計算?(1)班幣原封不動(2)班幣除以2(3)班幣除以5(4)班幣除以10
A5: 3.主持人展示競標物於指定桌面,同學需安靜坐著, 若有離座,禁止競標一局
A6: 4.輪流各組,參觀桌上展示的競標物,但同學手放背後,以免物品損壞
A7: 5.坐回座位,全班安靜後,主持人開始宣佈競標
A8: 6.競標活動規則:(1)舉手,等主持人說出座號或名字,競標者才能說出價格
A9: (2)若太吵,主持人可宣佈暫停競標
A10: (3)擾亂秩序的同學被制止三次,登記在黑板上, 禁標一局
A11: (4)不想參與者可以坐在位子上觀看或做自己的事,但擾亂秩序嚴重者,將出局.由老師安排額外功課

Sheet 競標30601
A1: 座號 | B1: 姓名 | C1: 聯絡簿分數2倍 | D1: 班幣 | F1: 原始總點數 | G1: 剩餘點數 | H1: 競標物1 | I1: 競標物2 | J1: 競標物3 | K1: 競標物4 | L1: 競標物5 | M1: 競標物6 | N1: 競標物7 | O1: 競標物8 | P1: 競標物9 | Q1: 競標物10 | R1: 競標物11 | S1: 競標物12 | T1: 競標物13 | U1: 競標物14 | V1: 競標物15 | W1: 競標物16 | X1: 競標物17 | Y1: 花費點數
A2: 01 | B2: 許銘洋 | C2: =班幣試算表!D3 -> 1970 | D2: =班幣試算表!I3 -> 20200 | F2: =C2+D2 -> 22170 | G2: =F2-Y2 -> 22170 | H2: 0 | I2: 0 | Y2: =SUM(H2:X2) -> 0
A3: 02 | B3: 王翊安 | C3: =班幣試算表!D4 -> 2200 | D3: =班幣試算表!I4 -> 0 | F3: =C3+D3 -> 2200 | G3: =F3-Y3 -> 2200 | Y3: =SUM(H3:X3) -> 0
A4: 3 | B4: 耿晧桐 | C4: =班幣試算表!D5 -> 3840 | D4: =班幣試算表!I5 -> 64071 | F4: =C4+D4 -> 67911 | G4: =F4-Y4 -> 67911 | Y4: =SUM(H4:X4) -> 0
A5: 04 | B5: 江彥寬 | C5: =班幣試算表!D6 -> 4250 | D5: =班幣試算表!I6 -> 0 | F5: =C5+D5 -> 4250 | G5: =F5-Y5 -> 4250 | Y5: =SUM(H5:X5) -> 0
A6: 05 | B6: 陳冠穎 | C6: =班幣試算表!D7 -> 3950 | D6: =班幣試算表!I7 -> 2000 | F6: =C6+D6 -> 5950 | G6: =F6-Y6 -> 5950 | Y6: =SUM(H6:X6) -> 0
A7: 06 | B7: 張紘輔 | C7: =班幣試算表!D8 -> 1950 | D7: =班幣試算表!I8 -> 39290 | F7: =C7+D7 -> 41240 | G7: =F7-Y7 -> 41240 | Y7: =SUM(H7:X7) -> 0
A8: 07 | B8: 彭佳寓 | C8: =班幣試算表!D9 -> 3550 | D8: =班幣試算表!I9 -> 35500 | F8: =C8+D8 -> 39050 | G8: =F8-Y8 -> 39050 | Y8: =SUM(H8:X8) -> 0
A9: 08 | B9: 吳睿文 | C9: =班幣試算表!D10 -> 2970 | D9: =班幣試算表!I10 -> 44900 | F9: =C9+D9 -> 47870 | G9: =F9-Y9 -> 47870 | Y9: =SUM(H9:X9) -> 0
A10: 09 | B10: 高翊祐 | C10: =班幣試算表!D11 -> 4170 | D10: =班幣試算表!I11 -> 25100 | F10: =C10+D10 -> 29270 | G10: =F10-Y10 -> 29270 | Y10: =SUM(H10:X10) -> 0
A11: 10 | B11: 林則言 | C11: =班幣試算表!D12 -> 510 | D11: =班幣試算表!I12 -> 44365 | F11: =C11+D11 -> 44875 | G11: =F11-Y11 -> 44875 | Y11: =SUM(H11:X11) -> 0
A12: 11 | B12: 邱家璿 | C12: =班幣試算表!D13 -> 22830 | D12: =班幣試算表!I13 -> 31500 | F12: =C12+D12 -> 54330 | G12: =F12-Y12 -> 54330 | Y12: =SUM(H12:X12) -> 0
A13: 12 | B13: 黃則瀚 | C13: =班幣試算表!D14 -> 2360 | D13: =班幣試算表!I14 -> 4218 | F13: =C13+D13 -> 6578 | G13: =F13-Y13 -> 6578 | Y13: =SUM(H13:X13) -> 0
A14: 13 | B14: 黃威勝 | C14: =班幣試算表!D15 -> 4940 | D14: =班幣試算表!I15 -> 60300 | F14: =C14+D14 -> 65240 | G14: =F14-Y14 -> 65240 | Y14: =SUM(H14:X14) -> 0
A15: 14 | B15: 陳冠瑜 | C15: =班幣試算表!D16 -> 5810 | D15: =班幣試算表!I16 -> 30100 | F15: =C15+D15 -> 35910 | G15: =F15-Y15 -> 35910 | Y15: =SUM(H15:X15) -> 0
A16: 15 | B16: 劉晉嘉 | C16: =班幣試算表!D17 -> 4500 | D16: =班幣試算表!I17 -> 19680 | F16: =C16+D16 -> 24180 | G16: =F16-Y16 -> 24180 | Y16: =SUM(H16:X16) -> 0
C17: =班幣試算表!D18 -> 0 | D17: =班幣試算表!I18 -> 17000 | F17: =C17+D17 -> 17000 | G17: =F17-Y17 -> 17000 | Y17: =SUM(H17:X17) -> 0
A18: 17 | B18: 韓湘 | C18: =班幣試算表!D19 -> 2480 | D18: =班幣試算表!I19 -> 19123 | F18: =C18+D18 -> 21603 | G18: =F18-Y18 -> 21603 | Y18: =SUM(H18:X18) -> 0
A19: 18 | B19: 余嘉恩 | C19: =班幣試算表!D20 -> 4220 | D19: =班幣試算表!I20 -> 3000 | F19: =C19+D19 -> 7220 | G19: =F19-Y19 -> 7220 | Y19: =SUM(H19:X19) -> 0
A20: 19 | B20: 王芃云 | C20: =班幣試算表!D21 -> 3690 | D20: =班幣試算表!I21 -> 5500 | F20: =C20+D20 -> 9190 | G20: =F20-Y20 -> 9190 | Y20: =SUM(H20:X20) -> 0
A21: 20 | B21: 譚睿涵 | C21: =班幣試算表!D22 -> 2500 | D21: =班幣試算表!I22 -> 19610 | F21: =C21+D21 -> 22110 | G21: =F21-Y21 -> 22110 | Y21: =SUM(H21:X21) -> 0
A22: 21 | B22: 蔡佳恩 | C22: =班幣試算表!D23 -> 2230 | D22: =班幣試算表!I23 -> 300 | F22: =C22+D22 -> 2530 | G22: =F22-Y22 -> 2530 | Y22: =SUM(H22:X22) -> 0
A23: 22 | B23: 蔡佳吟 | C23: =班幣試算表!D24 -> 2020 | D23: =班幣試算表!I24 -> 9254 | F23: =C23+D23 -> 11274 | G23: =F23-Y23 -> 11274 | Y23: =SUM(H23:X23) -> 0
A24: 23 | B24: 劉渝瑄 | C24: =班幣試算表!D25 -> 800 | D24: =班幣試算表!I25 -> 48188 | F24: =C24+D24 -> 48988 | G24: =F24-Y24 -> 48988 | Y24: =SUM(H24:X24) -> 0
A25: 24 | B25: 周亞璇 | C25: =班幣試算表!D26 -> 7920 | D25: =班幣試算表!I26 -> 23661 | F25: =C25+D25 -> 31581 | G25: =F25-Y25 -> 31581 | Y25: =SUM(H25:X25) -> 0
A26: 25 | B26: 李艾倫 | C26: =班幣試算表!D27 -> 3236 | D26: =班幣試算表!I27 -> 9537 | F26: =C26+D26 -> 12773 | G26: =F26-Y26 -> 12773 | Y26: =SUM(H26:X26) -> 0
A27: 26 | B27: 廖宥涵 | C27: =班幣試算表!D28 -> 4090 | D27: =班幣試算表!I28 -> 31686 | F27: =C27+D27 -> 35776 | G27: =F27-Y27 -> 35776 | Y27: =SUM(H27:X27) -> 0
A28: 27 | B28: 黃文穎 | C28: =班幣試算表!D29 -> 8440 | D28: =班幣試算表!I29 -> 5800 | F28: =C28+D28 -> 14240 | G28: =F28-Y28 -> 14240 | Y28: =SUM(H28:X28) -> 0
A29: 28 | B29: 丁安淇 | C29: =班幣試算表!D30 -> 4670 | D29: =班幣試算表!I30 -> 16800 | F29: =C29+D29 -> 21470 | G29: =F29-Y29 -> 21470 | Y29: =SUM(H29:X29) -> 0
A30: 29 | B30: 曾之羽 | C30: =班幣試算表!D31 -> 13160 | D30: =班幣試算表!I31 -> 42260 | F30: =C30+D30 -> 55420 | G30: =F30-Y30 -> 55420 | Y30: =SUM(H30:X30) -> 0
Y31: =SUM(H31:X31) -> 0

Sheet 班幣試算表
E1: 班幣
A2: 座號 | B2: 姓名 | C2: 聯絡簿分數 | D2: ▲聯絡簿2倍 | E2: ●班幣1 | F2: ★個數 | G2: 語詞簿印章個數 | H2: ◆競標物數量 | I2: 班幣
A3: 01 | B3: 許銘洋 | C3: 985 | D3: =C3*2 -> 1970 | E3: 19200 | H3: 1 | I3: =E3+(F3+G3)*100+H3*1000 -> 20200 | J3: =D3+I3 -> 22170
A4: 02 | B4: 王翊安 | C4: 1100 | D4: =C4*2 -> 2200 | I4: =E4+(F4+G4)*100+H4*1000 -> 0 | J4: =D4+I4 -> 2200
A5: 3 | B5: 耿晧桐 | C5: 1920 | D5: =C5*2 -> 3840 | E5: 45171 | F5: 20 | G5: 9 | H5: 16 | I5: =E5+(F5+G5)*100+H5*1000 -> 64071 | J5: =D5+I5 -> 67911
A6: 04 | B6: 江彥寬 | C6: 2125 | D6: =C6*2 -> 4250 | I6: =E6+(F6+G6)*100+H6*1000 -> 0 | J6: =D6+I6 -> 4250
A7: 05 | B7: 陳冠穎 | C7: 1975 | D7: =C7*2 -> 3950 | H7: 2 | I7: =E7+(F7+G7)*100+H7*1000 -> 2000 | J7: =D7+I7 -> 5950
A8: 06 | B8: 張紘輔 | C8: 975 | D8: =C8*2 -> 1950 | E8: 30290 | H8: 9 | I8: =E8+(F8+G8)*100+H8*1000 -> 39290 | J8: =D8+I8 -> 41240
A9: 07 | B9: 彭佳寓 | C9: 1775 | D9: =C9*2 -> 3550 | E9: 35500 | I9: =E9+(F9+G9)*100+H9*1000 -> 35500 | J9: =D9+I9 -> 39050
A10: 08 | B10: 吳睿文 | C10: 1485 | D10: =C10*2 -> 2970 | E10: 32900 | H10: 12 | I10: =E10+(F10+G10)*100+H10*1000 -> 44900 | J10: =D10+I10 -> 47870
A11: 09 | B11: 高翊祐 | C11: 2085 | D11: =C11*2 -> 4170 | E11: 20100 | H11: 5 | I11: =E11+(F11+G11)*100+H11*1000 -> 25100 | J11: =D11+I11 -> 29270
A12: 10 | B12: 林則言 | C12: 255 | D12: =C12*2 -> 510 | E12: 43365 | H12: 1 | I12: =E12+(F12+G12)*100+H12*1000 -> 44365 | J12: =D12+I12 -> 44875
A13: 11 | B13: 邱家璿 | C13: 11415 | D13: =C13*2 -> 22830 | E13: 26500 | F13: 40 | H13: 1 | I13: =E13+(F13+G13)*100+H13*1000 -> 31500 | J13: =D13+I13 -> 54330
A14: 12 | B14: 黃則瀚 | C14: 1180 | D14: =C14*2 -> 2360 | E14: 4218 | I14: =E14+(F14+G14)*100+H14*1000 -> 4218 | J14: =D14+I14 -> 6578
A15: 13 | B15: 黃威勝 | C15: 2470 | D15: =C15*2 -> 4940 | E15: 31800 | F15: 36 | G15: 9 | H15: 24 | I15: =E15+(F15+G15)*100+H15*1000 -> 60300 | J15: =D15+I15 -> 65240
A16: 14 | B16: 陳冠瑜 | C16: 2905 | D16: =C16*2 -> 5810 | E16: 23200 | F16: 59 | H16: 1 | I16: =E16+(F16+G16)*100+H16*1000 -> 30100 | J16: =D16+I16 -> 35910
A17: 15 | B17: 劉晉嘉 | C17: 2250 | D17: =C17*2 -> 4500 | E17: 10680 | F17: 48 | G17: 12 | H17: 3 | I17: =E17+(F17+G17)*100+H17*1000 -> 19680 | J17: =D17+I17 -> 24180
D18: =C18*2 -> 0 | H18: 17 | I18: =E18+(F18+G18)*100+H18*1000 -> 17000 | J18: =D18+I18 -> 17000
A19: 17 | B19: 韓湘 | C19: 1240 | D19: =C19*2 -> 2480 | E19: 15423 | G19: 7 | H19: 3 | I19: =E19+(F19+G19)*100+H19*1000 -> 19123 | J19: =D19+I19 -> 21603
A20: 18 | B20: 余嘉恩 | C20: 2110 | D20: =C20*2 -> 4220 | H20: 3 | I20: =E20+(F20+G20)*100+H20*1000 -> 3000 | J20: =D20+I20 -> 7220
A21: 19 | B21: 王芃云 | C21: 1845 | D21: =C21*2 -> 3690 | F21: 43 | G21: 12 | I21: =E21+(F21+G21)*100+H21*1000 -> 5500 | J21: =D21+I21 -> 9190
A22: 20 | B22: 譚睿涵 | C22: 1250 | D22: =C22*2 -> 2500 | E22: 8710 | F22: 49 | H22: 6 | I22: =E22+(F22+G22)*100+H22*1000 -> 19610 | J22: =D22+I22 -> 22110
A23: 21 | B23: 蔡佳恩 | C23: 1115 | D23: =C23*2 -> 2230 | G23: 3 | I23: =E23+(F23+G23)*100+H23*1000 -> 300 | J23: =D23+I23 -> 2530
A24: 22 | B24: 蔡佳吟 | C24: 1010 | D24: =C24*2 -> 2020 | E24: 9254 | I24: =E24+(F24+G24)*100+H24*1000 -> 9254 | J24: =D24+I24 -> 11274
A25: 23 | B25: 劉渝瑄 | C25: 400 | D25: =C25*2 -> 800 | E25: 29688 | F25: 25 | H25: 16 | I25: =E25+(F25+G25)*100+H25*1000 -> 48188 | J25: =D25+I25 -> 48988
A26: 24 | B26: 周亞璇 | C26: 3960 | D26: =C26*2 -> 7920 | E26: 10361 | F26: 121 | G26: 12 | I26: =E26+(F26+G26)*100+H26*1000 -> 23661 | J26: =D26+I26 -> 31581
A27: 25 | B27: 李艾倫 | C27: 1618 | D27: =C27*2 -> 3236 | E27: 7137 | G27: 4 | H27: 2 | I27: =E27+(F27+G27)*100+H27*1000 -> 9537 | J27: =D27+I27 -> 12773
A28: 26 | B28: 廖宥涵 | C28: 2045 | D28: =C28*2 -> 4090 | E28: 25486 | F28: 27 | G28: 5 | H28: 3 | I28: =E28+(F28+G28)*100+H28*1000 -> 31686 | J28: =D28+I28 -> 35776
A29: 27 | B29: 黃文穎 | C29: 4220 | D29: =C29*2 -> 8440 | F29: 35 | G29: 13 | H29: 1 | I29: =E29+(F29+G29)*100+H29*1000 -> 5800 | J29: =D29+I29 -> 14240
A30: 28 | B30: 丁安淇 | C30: 2335 | D30: =C30*2 -> 4670 | E30: 14500 | F30: 23 | I30: =E30+(F30+G30)*100+H30*1000 -> 16800 | J30: =D30+I30 -> 21470
A31: 29 | B31: 曾之羽 | C31: 6580 | D31: =C31*2 -> 13160 | E31: 40860 | G31: 4 | H31: 1 | I31: =E31+(F31+G31)*100+H31*1000 -> 42260 | J31: =D31+I31 -> 55420

Sheet 星星個數工作表3
A1: 座號 | B1: 姓名
A2: 01 | B2: 許銘洋
A3: 02 | B3: 王翊安
A4: 16 | B4: 耿晧桐
A5: 04 | B5: 江彥寬
A6: 05 | B6: 陳冠穎
A7: 06 | B7: 張紘輔
A8: 07 | B8: 彭佳寓
A9: 08 | B9: 吳睿文
A10: 09 | B10: 高翊祐
A11: 10 | B11: 林則言
A12: 11 | B12: 邱家璿
A13: 12 | B13: 黃則瀚
A14: 13 | B14: 黃威勝
A15: 14 | B15: 陳冠瑜
A16: 15 | B16: 劉晉嘉
... A30: 29 | B30: 曾之羽

Sheet 作業缺交
A1: 座號 | B1: 姓名 | C1: 生甲 | D1: 生乙 | E1: 國習0 | F1: 國本 | G1: 數習 | H1: 數課 | I1: 數本
A2: 01 | B2: 許銘洋 | C2: 01 | D2: 01 | E2: 01 | F2: 01 | G2: 01 | H2: 01 | I2: 01
A3: 02 | B3: 王翊安 | C3: 02 | D3: 02 | E3: 02 | F3: 02 | G3: 02 | H3: 02 | I3: 02
A4: 16 | B4: 耿晧桐 | C4: 03 | D4: 03 | E4: 03 | F4: 03 | G4: 03 | H4: 03 | I4: 03
A5: 04 | B5: 江彥寬 | C5: 04 | D5: 04 | E5: 04 | F5: 04 | G5: 04 | H5: 04 | I5: 04
A6: 05 | B6: 陳冠穎 | C6: 05 | D6: 05 | E6: 05 | F6: 05 | G6: 05 | H6: 05 | I6: 05
A7: 06 | B7: 張紘輔 | C7: 06 | D7: 06 | E7: 06 | F7: 06 | G7: 06 | H7: 06 | I7: 06
A8: 07 | B8: 彭佳寓 | C8: 07 | D8: 07 | E8: 07 | F8: 07 | G8: 07 | H8: 07 | I8: 07
A9: 08 | B9: 吳睿文 | C9: 08 | D9: 08 | E9: 08 | F9: 08 | G9: 08 | H9: 08 | I9: 08
A10: 09 | B10: 高翊祐 | C10: 09 | D10: 09 | E10: 09 | F10: 09 | G10: 09 | H10: 09 | I10: 09
A11: 10 | B11: 林則言 | C11: 10 | D11: 10 | E11: 10 | F11: 10 | G11: 10 | H11: 10 | I11: 10
A12: 11 | B12: 邱家璿 | C12: 11 | D12: 11 | E12: 11 | F12: 11 | G12: 11 | H12: 11 | I12: 11
A13: 12 | B13: 黃則瀚 | C13: 12 | D13: 12 | E13: 12 | F13: 12 | G13: 12 | H13: 12 | I13: 12
A14: 13 | B14: 黃威勝 | C14: 13 | D14: 13 | E14: 13 | F14: 13 | G14: 13 | H14: 13 | I14: 13
A15: 14 | B15: 陳冠瑜 | C15: 14 | D15: 14 | E15: 14 | F15: 14 | G15: 14 | H15: 14 | I15: 14
A16: 15 | B16: 劉晉嘉 | C16: 15 | D16: 15 | E16: 15 | F16: 15 | G16: 15 | H16: 15 | I16: 15
... A30: 29 | B30: 曾之羽 | C30: 29 | D30: 29 | E30: 29 | F30: 29 | G30: 29 | H30: 29 | I30: 29
